BEGIN:VCALENDAR
VERSION:2.0
PRODID:-//Site de la commune de La Bonneville-sur-Iton - ECPv4.5.13//NONSGML v1.0//EN
CALSCALE:GREGORIAN
METHOD:PUBLISH
X-WR-CALNAME:Site de la commune de La Bonneville-sur-Iton
X-ORIGINAL-URL:https://www.labonnevillesuriton.fr
X-WR-CALDESC:Events for Site de la commune de La Bonneville-sur-Iton
BEGIN:VEVENT
DTSTART;TZID=Europe/Paris:20260505T203000
DTEND;TZID=Europe/Paris:20260505T230000
DTSTAMP:20260419T190936
CREATED:20260105T213717Z
LAST-MODIFIED:20260419T153127Z
UID:6827-1778013000-1778022000@www.labonnevillesuriton.fr
SUMMARY:THÉÂTRE D'IMPRO
DESCRIPTION: \n
URL:https://www.labonnevillesuriton.fr/evenement/theatre-dimpro/
ATTACH;FMTTYPE=image/jpeg:https://www.labonnevillesuriton.fr/wp-content/uploads/2025/11/theatre-Copie.jpg
END:VEVENT
END:VCALENDAR