BEGIN:VCALENDAR
VERSION:2.0
PRODID:-//Site de la commune de La Bonneville-sur-Iton - ECPv4.5.13//NONSGML v1.0//EN
CALSCALE:GREGORIAN
METHOD:PUBLISH
X-WR-CALNAME:Site de la commune de La Bonneville-sur-Iton
X-ORIGINAL-URL:https://www.labonnevillesuriton.fr
X-WR-CALDESC:Events for Site de la commune de La Bonneville-sur-Iton
BEGIN:VEVENT
DTSTART;TZID=Europe/Paris:20221014T190000
DTEND;TZID=Europe/Paris:20221014T230000
DTSTAMP:20260421T092252
CREATED:20220904T122340Z
LAST-MODIFIED:20220904T122340Z
UID:4824-1665774000-1665788400@www.labonnevillesuriton.fr
SUMMARY:OCTOBRE ROSE - CLIP'EURE
DESCRIPTION:Organisée par le club d’escalade Clip’Eure et le club de badminton\, la deuxième édition de la soirée Octobre Rose aura lieu \nle vendredi 14 Octobre de 19h00 à 23h00 au gymnase de la Bonneville sur Iton. \n  \nLa ligue contre le cancer de l’Eure sera présente afin de sensibiliser au dépistage et de récolter des fonds pour la recherche. \nDes initiations gratuites et des animations de ces deux sports vous seront proposées\, ainsi qu’une possibilité de restauration sur place sous la forme d’un repas participatif agrémenté de vos succulents plats\, desserts et autres. \n  \nTous mobilisés en faveur de la lutte contre le cancer. \n  \nEntrée gratuite \nContact et informations: clipeure@gmail.com \n  \n \n
URL:https://www.labonnevillesuriton.fr/evenement/octobre-rose-clipeure/
LOCATION:6 route d'Évreux\, La Bonneville sur Iton\, 27190\, France
ATTACH;FMTTYPE=image/png:https://www.labonnevillesuriton.fr/wp-content/uploads/2022/09/Logo-ClipEure-Octobre-Rose.png
END:VEVENT
END:VCALENDAR